BEGIN:VCALENDAR
VERSION:2.0
PRODID:-//Ville d&#039;Acton Vale - ECPv6.15.20//NONSGML v1.0//EN
CALSCALE:GREGORIAN
METHOD:PUBLISH
X-WR-CALNAME:Ville d&#039;Acton Vale
X-ORIGINAL-URL:https://ville.actonvale.qc.ca
X-WR-CALDESC:Évènements pour Ville d&#039;Acton Vale
REFRESH-INTERVAL;VALUE=DURATION:PT1H
X-Robots-Tag:noindex
X-PUBLISHED-TTL:PT1H
BEGIN:VTIMEZONE
TZID:America/Toronto
BEGIN:DAYLIGHT
TZOFFSETFROM:-0500
TZOFFSETTO:-0400
TZNAME:EDT
DTSTART:20220313T070000
END:DAYLIGHT
BEGIN:STANDARD
TZOFFSETFROM:-0400
TZOFFSETTO:-0500
TZNAME:EST
DTSTART:20221106T060000
END:STANDARD
BEGIN:DAYLIGHT
TZOFFSETFROM:-0500
TZOFFSETTO:-0400
TZNAME:EDT
DTSTART:20230312T070000
END:DAYLIGHT
BEGIN:STANDARD
TZOFFSETFROM:-0400
TZOFFSETTO:-0500
TZNAME:EST
DTSTART:20231105T060000
END:STANDARD
BEGIN:DAYLIGHT
TZOFFSETFROM:-0500
TZOFFSETTO:-0400
TZNAME:EDT
DTSTART:20240310T070000
END:DAYLIGHT
BEGIN:STANDARD
TZOFFSETFROM:-0400
TZOFFSETTO:-0500
TZNAME:EST
DTSTART:20241103T060000
END:STANDARD
BEGIN:DAYLIGHT
TZOFFSETFROM:-0500
TZOFFSETTO:-0400
TZNAME:EDT
DTSTART:20250309T070000
END:DAYLIGHT
BEGIN:STANDARD
TZOFFSETFROM:-0400
TZOFFSETTO:-0500
TZNAME:EST
DTSTART:20251102T060000
END:STANDARD
BEGIN:DAYLIGHT
TZOFFSETFROM:-0500
TZOFFSETTO:-0400
TZNAME:EDT
DTSTART:20260308T070000
END:DAYLIGHT
BEGIN:STANDARD
TZOFFSETFROM:-0400
TZOFFSETTO:-0500
TZNAME:EST
DTSTART:20261101T060000
END:STANDARD
END:VTIMEZONE
BEGIN:VEVENT
DTSTART;TZID=America/Toronto:20250729T193000
DTEND;TZID=America/Toronto:20250729T213000
DTSTAMP:20260420T163858
CREATED:20250616T195333Z
LAST-MODIFIED:20250616T195852Z
UID:24717-1753817400-1753824600@ville.actonvale.qc.ca
SUMMARY:Les Mardis chauds
DESCRIPTION:Ce soir: Karine Perreault et ses musiciens
URL:https://ville.actonvale.qc.ca/evenement/les-mardis-chauds-31/
LOCATION:Parc Roger-LaBrèque
CATEGORIES:Activités culturelles,Activités familiales,Loisirs,Principaux événements,Spectacles
ATTACH;FMTTYPE=image/jpeg:https://ville.actonvale.qc.ca/wp-content/uploads/2025/06/Mardis-chauds-2025-scaled.jpg
END:VEVENT
BEGIN:VEVENT
DTSTART;TZID=America/Toronto:20250722T193000
DTEND;TZID=America/Toronto:20250722T213000
DTSTAMP:20260420T163858
CREATED:20250616T195230Z
LAST-MODIFIED:20250616T195820Z
UID:24715-1753212600-1753219800@ville.actonvale.qc.ca
SUMMARY:Les Mardis chauds
DESCRIPTION:Ce soir: Émilie Janvier et Jean-Benoit Lasanté
URL:https://ville.actonvale.qc.ca/evenement/les-mardis-chauds-30/
LOCATION:Parc Roger-LaBrèque
CATEGORIES:Activités culturelles,Activités familiales,Loisirs,Principaux événements,Spectacles
ATTACH;FMTTYPE=image/jpeg:https://ville.actonvale.qc.ca/wp-content/uploads/2025/06/Mardis-chauds-2025-scaled.jpg
END:VEVENT
BEGIN:VEVENT
DTSTART;TZID=America/Toronto:20250715T193000
DTEND;TZID=America/Toronto:20250715T213000
DTSTAMP:20260420T163858
CREATED:20250616T195118Z
LAST-MODIFIED:20250616T195738Z
UID:24713-1752607800-1752615000@ville.actonvale.qc.ca
SUMMARY:Les Mardis chauds
DESCRIPTION:Ce soir: Hommage aux Rolling Stones
URL:https://ville.actonvale.qc.ca/evenement/les-mardis-chauds-29/
LOCATION:Parc Roger-LaBrèque
CATEGORIES:Activités culturelles,Activités familiales,Loisirs,Principaux événements,Spectacles
ATTACH;FMTTYPE=image/jpeg:https://ville.actonvale.qc.ca/wp-content/uploads/2025/06/Mardis-chauds-2025-scaled.jpg
END:VEVENT
BEGIN:VEVENT
DTSTART;TZID=America/Toronto:20250708T193000
DTEND;TZID=America/Toronto:20250708T213000
DTSTAMP:20260420T163858
CREATED:20250616T195016Z
LAST-MODIFIED:20250616T195703Z
UID:24711-1752003000-1752010200@ville.actonvale.qc.ca
SUMMARY:Les Mardis chauds
DESCRIPTION:Ce soir: Tommy Demers
URL:https://ville.actonvale.qc.ca/evenement/les-mardis-chauds-28/
LOCATION:Parc Roger-LaBrèque
CATEGORIES:Activités culturelles,Activités familiales,Loisirs,Principaux événements,Spectacles
ATTACH;FMTTYPE=image/jpeg:https://ville.actonvale.qc.ca/wp-content/uploads/2025/06/Mardis-chauds-2025-scaled.jpg
END:VEVENT
BEGIN:VEVENT
DTSTART;TZID=America/Toronto:20250701T193000
DTEND;TZID=America/Toronto:20250701T213000
DTSTAMP:20260420T163858
CREATED:20250616T194806Z
LAST-MODIFIED:20250616T195631Z
UID:24705-1751398200-1751405400@ville.actonvale.qc.ca
SUMMARY:Les Mardis chauds
DESCRIPTION:Ce soir: Marco Calliari
URL:https://ville.actonvale.qc.ca/evenement/les-mardis-chauds-27/
LOCATION:Parc Roger-Labrèque
CATEGORIES:Activités culturelles,Loisirs,Principaux événements,Spectacles
ATTACH;FMTTYPE=image/jpeg:https://ville.actonvale.qc.ca/wp-content/uploads/2025/06/Mardis-chauds-2025-scaled.jpg
END:VEVENT
BEGIN:VEVENT
DTSTART;TZID=America/Toronto:20250620T170000
DTEND;TZID=America/Toronto:20250620T233000
DTSTAMP:20260420T163858
CREATED:20250529T202418Z
LAST-MODIFIED:20250529T202418Z
UID:24620-1750438800-1750462200@ville.actonvale.qc.ca
SUMMARY:Célébrons ensemble - La Fête nationale du Québec
DESCRIPTION:
URL:https://ville.actonvale.qc.ca/evenement/celebrons-ensemble-la-fete-nationale-du-quebec/
LOCATION:Parc Donald-Martin\, 775\, rue Pelchat\, Acton Vale\, J0H 1A0
CATEGORIES:Activités culturelles,Activités familiales,Loisirs,Principaux événements,Spectacles
ATTACH;FMTTYPE=image/jpeg:https://ville.actonvale.qc.ca/wp-content/uploads/2025/05/POSTER_ST-jEAN_2025-scaled.jpg
END:VEVENT
BEGIN:VEVENT
DTSTART;TZID=America/Toronto:20250307T103000
DTEND;TZID=America/Toronto:20250307T111500
DTSTAMP:20260420T163858
CREATED:20250110T183505Z
LAST-MODIFIED:20250110T183505Z
UID:23942-1741343400-1741346100@ville.actonvale.qc.ca
SUMMARY:Les contes enchantés
DESCRIPTION:Conception : Caroline Bernier-Dionne\, comédienne et marionnettiste\n\nPendant la semaine de relâche… plongez dans un monde enchanté avec un spectacle de marionnettes captivant!\nTrois contes inspirants prennent vie sur scène\, enseignant des leçons précieuses sur le courage\, la persévérance\, la nature et l’entraide. Laissez vos petits rêveurs être transportés dans différents univers fantastiques où les princesses\, les dinosaures et les dragons prennent vie\, créant des souvenirs inoubliables.\nOffrez à vos enfants une expérience théâtrale mémorable et éducative !\n\nPublic cible: 3 à 8 ans. Bienvenue à toute la famille!\nGratuit! Réservez vos places dès maintenant:450-546-2703 poste 252ou par courriel: biblio@ville.actonvale.qc.ca
URL:https://ville.actonvale.qc.ca/evenement/les-contes-enchantes/
LOCATION:Bibliothèque municipale d’Acton Vale\, 1093\, rue St-André\, Acton Vale\, J0H 1A0
CATEGORIES:Activités culturelles,Activités familiales,Bibliothèque,Spectacles
ATTACH;FMTTYPE=image/jpeg:https://ville.actonvale.qc.ca/wp-content/uploads/2025/01/Affiche-Les-contes-enchantes.jpg
END:VEVENT
BEGIN:VEVENT
DTSTART;TZID=America/Toronto:20241227T180000
DTEND;TZID=America/Toronto:20241227T210000
DTSTAMP:20260420T163858
CREATED:20241125T220800Z
LAST-MODIFIED:20241125T221504Z
UID:23735-1735322400-1735333200@ville.actonvale.qc.ca
SUMMARY:Célébrons ensemble
DESCRIPTION:
URL:https://ville.actonvale.qc.ca/evenement/celebrons-ensemble-4/
LOCATION:Parc Roger-LaBrèque
CATEGORIES:Activités culturelles,Activités familiales,Loisirs,Principaux événements,Spectacles
ATTACH;FMTTYPE=image/png:https://ville.actonvale.qc.ca/wp-content/uploads/2024/11/Poster_FB_2024.png
END:VEVENT
BEGIN:VEVENT
DTSTART;TZID=America/Toronto:20241220T180000
DTEND;TZID=America/Toronto:20241220T210000
DTSTAMP:20260420T163858
CREATED:20241125T220640Z
LAST-MODIFIED:20241125T221507Z
UID:23733-1734717600-1734728400@ville.actonvale.qc.ca
SUMMARY:Célébrons ensemble
DESCRIPTION:
URL:https://ville.actonvale.qc.ca/evenement/celebrons-ensemble-3/
LOCATION:Parc Roger-LaBrèque
CATEGORIES:Activités culturelles,Activités familiales,Loisirs,Principaux événements,Spectacles
ATTACH;FMTTYPE=image/png:https://ville.actonvale.qc.ca/wp-content/uploads/2024/11/Poster_FB_2024.png
END:VEVENT
BEGIN:VEVENT
DTSTART;TZID=America/Toronto:20241215T100000
DTEND;TZID=America/Toronto:20241215T110000
DTSTAMP:20260420T163858
CREATED:20240906T150947Z
LAST-MODIFIED:20240906T150947Z
UID:23315-1734256800-1734260400@ville.actonvale.qc.ca
SUMMARY:Spectacle: La veille de Noël de Grelot et Rufino
DESCRIPTION:Spectacle présenté par La belle coccinelle Animation.\nDurant la nuit du 23 décembre\, Grelot\, un lutin gaffeur voulant impressionner le Père-Noël\, part à la recherche de Rufino\, le renne au nez rouge du Père-Noël. Une histoire magique et musicale teintée d’une complicité amicale candide et empreinte d’une belle leçon de solidarité et d’entraide. Les enfants aideront Grelot et Rufino à prendre des décisions et à choisir leur chemin à travers la course aux rêves. Rencontreront-ils des personnages inattendus durant leur périple?\n\nPour toute la famille! Gratuit! Places limitées.Inscription obligatoire: 450-546-2703 poste 252 ou par courriel: biblio@ville.actonvale.qc.ca
URL:https://ville.actonvale.qc.ca/evenement/spectacle-la-veille-de-noel-de-grelot-et-rufino/
LOCATION:Bibliothèque municipale d’Acton Vale\, 1093\, rue St-André\, Acton Vale\, J0H 1A0
CATEGORIES:Activités familiales,Bibliothèque,Spectacles
ATTACH;FMTTYPE=image/jpeg:https://ville.actonvale.qc.ca/wp-content/uploads/2024/09/Affiche-Noel-Grelot-et-Rufino.jpg
END:VEVENT
BEGIN:VEVENT
DTSTART;TZID=America/Toronto:20241213T180000
DTEND;TZID=America/Toronto:20241213T210000
DTSTAMP:20260420T163858
CREATED:20241125T220011Z
LAST-MODIFIED:20241125T221518Z
UID:23731-1734112800-1734123600@ville.actonvale.qc.ca
SUMMARY:Célébrons ensemble
DESCRIPTION:
URL:https://ville.actonvale.qc.ca/evenement/celebrons-ensemble-2/
LOCATION:Parc Roger-LaBrèque
CATEGORIES:Activités culturelles,Activités familiales,Loisirs,Principaux événements,Spectacles
ATTACH;FMTTYPE=image/png:https://ville.actonvale.qc.ca/wp-content/uploads/2024/11/Poster_FB_2024.png
END:VEVENT
BEGIN:VEVENT
DTSTART;TZID=America/Toronto:20241206T180000
DTEND;TZID=America/Toronto:20241206T210000
DTSTAMP:20260420T163858
CREATED:20241125T215919Z
LAST-MODIFIED:20241125T221435Z
UID:23729-1733508000-1733518800@ville.actonvale.qc.ca
SUMMARY:Célébrons ensemble
DESCRIPTION:
URL:https://ville.actonvale.qc.ca/evenement/celebrons-ensemble/
LOCATION:Parc Roger-LaBrèque
CATEGORIES:Activités culturelles,Activités familiales,Loisirs,Principaux événements,Spectacles
ATTACH;FMTTYPE=image/png:https://ville.actonvale.qc.ca/wp-content/uploads/2024/11/Poster_FB_2024.png
END:VEVENT
BEGIN:VEVENT
DTSTART;TZID=America/Toronto:20241025T190000
DTEND;TZID=America/Toronto:20241025T201500
DTSTAMP:20260420T163858
CREATED:20240829T222752Z
LAST-MODIFIED:20240829T222834Z
UID:23280-1729882800-1729887300@ville.actonvale.qc.ca
SUMMARY:L'Amer'Cirque. Récit conte-en-forain
DESCRIPTION:La conteuse Ariane Labonté invite le public dans un drôle de cirque.\nAccompagnée de surprenantes « marionnettes » et portée par l’accordéon riche et nuancé de Luzio Altobelli\, elle échafaude une savoureuse satire sociale à propos de notre consommation indomptable.\nAvec un humour langagier engagé qui rappelle celui de Sol\, elle décrit et décrie une société qu’elle nous invite à réécrire.\nUn spectacle actuel et nécessaire !\nGratuit! Inscription obligatoire:\n450-546-2703 poste 252 ou par courriel:\nbiblio@ville.actonvale.qc.ca
URL:https://ville.actonvale.qc.ca/evenement/lamercirque-recit-conte-en-forain/
LOCATION:Bibliothèque municipale d’Acton Vale\, 1093\, rue St-André\, Acton Vale\, J0H 1A0
CATEGORIES:Activités culturelles,Bibliothèque,Loisirs,Spectacles
ATTACH;FMTTYPE=image/jpeg:https://ville.actonvale.qc.ca/wp-content/uploads/2024/08/Affiche-LAmerCirque.jpg
END:VEVENT
BEGIN:VEVENT
DTSTART;VALUE=DATE:20240815
DTEND;VALUE=DATE:20240818
DTSTAMP:20260420T163858
CREATED:20240719T204635Z
LAST-MODIFIED:20240719T204635Z
UID:23144-1723680000-1723939199@ville.actonvale.qc.ca
SUMMARY:Show de la rentrée Desjardins d'Acton Vale 2024
DESCRIPTION:
URL:https://ville.actonvale.qc.ca/evenement/show-de-la-rentree-desjardins-dacton-vale-2024/
CATEGORIES:Activités culturelles,Activités familiales,Loisirs,Principaux événements,Spectacles
ATTACH;FMTTYPE=image/jpeg:https://ville.actonvale.qc.ca/wp-content/uploads/2024/07/SDLR_ListeArtistes_FINAL-1.jpg
END:VEVENT
BEGIN:VEVENT
DTSTART;TZID=America/Toronto:20240806T193000
DTEND;TZID=America/Toronto:20240806T210000
DTSTAMP:20260420T163858
CREATED:20240606T222901Z
LAST-MODIFIED:20240606T222901Z
UID:22989-1722972600-1722978000@ville.actonvale.qc.ca
SUMMARY:Les Mardis Chauds: Nadia Waltz Trio
DESCRIPTION:
URL:https://ville.actonvale.qc.ca/evenement/les-mardis-chauds-nadia-waltz-trio/
LOCATION:Parc Roger-LaBrèque
CATEGORIES:Activités culturelles,Activités familiales,Loisirs,Principaux événements,Spectacles
ATTACH;FMTTYPE=image/jpeg:https://ville.actonvale.qc.ca/wp-content/uploads/2024/06/Mardis-chauds-LOGO-2024-scaled.jpg
END:VEVENT
BEGIN:VEVENT
DTSTART;TZID=America/Toronto:20240730T193000
DTEND;TZID=America/Toronto:20240730T210000
DTSTAMP:20260420T163858
CREATED:20240606T222427Z
LAST-MODIFIED:20240606T222427Z
UID:22987-1722367800-1722373200@ville.actonvale.qc.ca
SUMMARY:Les Mardis Chauds: DouFolk
DESCRIPTION:
URL:https://ville.actonvale.qc.ca/evenement/les-mardis-chauds-doufolk/
LOCATION:Parc Roger-LaBrèque
CATEGORIES:Activités culturelles,Activités familiales,Loisirs,Principaux événements,Spectacles
ATTACH;FMTTYPE=image/jpeg:https://ville.actonvale.qc.ca/wp-content/uploads/2024/06/Mardis-chauds-LOGO-2024-scaled.jpg
END:VEVENT
BEGIN:VEVENT
DTSTART;TZID=America/Toronto:20240723T193000
DTEND;TZID=America/Toronto:20240723T210000
DTSTAMP:20260420T163858
CREATED:20240606T222320Z
LAST-MODIFIED:20240606T222320Z
UID:22985-1721763000-1721768400@ville.actonvale.qc.ca
SUMMARY:Les Mardis Chauds: Pépé et sa Guitare
DESCRIPTION:
URL:https://ville.actonvale.qc.ca/evenement/les-mardis-chauds-pepe-et-sa-guitare/
LOCATION:Parc Roger-LaBrèque
CATEGORIES:Activités culturelles,Activités familiales,Loisirs,Principaux événements,Spectacles
ATTACH;FMTTYPE=image/jpeg:https://ville.actonvale.qc.ca/wp-content/uploads/2024/06/Mardis-chauds-LOGO-2024-scaled.jpg
END:VEVENT
BEGIN:VEVENT
DTSTART;TZID=America/Toronto:20240716T193000
DTEND;TZID=America/Toronto:20240716T210000
DTSTAMP:20260420T163858
CREATED:20240606T222114Z
LAST-MODIFIED:20240606T222114Z
UID:22983-1721158200-1721163600@ville.actonvale.qc.ca
SUMMARY:Les Mardis Chauds: Level Up
DESCRIPTION:
URL:https://ville.actonvale.qc.ca/evenement/les-mardis-chauds-level-up/
LOCATION:Parc Roger-LaBrèque
CATEGORIES:Activités culturelles,Activités familiales,Loisirs,Principaux événements,Spectacles
ATTACH;FMTTYPE=image/jpeg:https://ville.actonvale.qc.ca/wp-content/uploads/2024/06/Mardis-chauds-LOGO-2024-scaled.jpg
END:VEVENT
BEGIN:VEVENT
DTSTART;TZID=America/Toronto:20240709T193000
DTEND;TZID=America/Toronto:20240709T210000
DTSTAMP:20260420T163858
CREATED:20240606T221603Z
LAST-MODIFIED:20240606T221603Z
UID:22981-1720553400-1720558800@ville.actonvale.qc.ca
SUMMARY:Les Mardis Chauds: Touch of Gray
DESCRIPTION:
URL:https://ville.actonvale.qc.ca/evenement/les-mardis-chauds-touch-of-gray/
LOCATION:Parc Roger-LaBrèque
CATEGORIES:Activités culturelles,Activités familiales,Loisirs,Principaux événements,Spectacles
ATTACH;FMTTYPE=image/jpeg:https://ville.actonvale.qc.ca/wp-content/uploads/2024/06/Mardis-chauds-LOGO-2024-scaled.jpg
END:VEVENT
BEGIN:VEVENT
DTSTART;TZID=America/Toronto:20240702T193000
DTEND;TZID=America/Toronto:20240702T210000
DTSTAMP:20260420T163858
CREATED:20240606T220653Z
LAST-MODIFIED:20240606T221436Z
UID:22976-1719948600-1719954000@ville.actonvale.qc.ca
SUMMARY:Les Mardis Chauds: Les Violons d'Amérique
DESCRIPTION:
URL:https://ville.actonvale.qc.ca/evenement/les-mardis-chauds-26/
LOCATION:Parc Roger-LaBrèque
CATEGORIES:Activités culturelles,Activités familiales,Loisirs,Principaux événements,Spectacles
ATTACH;FMTTYPE=image/jpeg:https://ville.actonvale.qc.ca/wp-content/uploads/2024/06/Mardis-chauds-LOGO-2024-scaled.jpg
END:VEVENT
BEGIN:VEVENT
DTSTART;TZID=America/Toronto:20240625T193000
DTEND;TZID=America/Toronto:20240625T210000
DTSTAMP:20260420T163858
CREATED:20240606T220403Z
LAST-MODIFIED:20240606T220757Z
UID:22973-1719343800-1719349200@ville.actonvale.qc.ca
SUMMARY:Les Mardis Chauds: La Bande à Pauline
DESCRIPTION:
URL:https://ville.actonvale.qc.ca/evenement/les-mardis-chauds-25/
LOCATION:Parc Roger-LaBrèque
CATEGORIES:Activités culturelles,Activités familiales,Loisirs,Principaux événements,Spectacles
ATTACH;FMTTYPE=image/jpeg:https://ville.actonvale.qc.ca/wp-content/uploads/2024/06/Mardis-chauds-LOGO-2024-scaled.jpg
END:VEVENT
BEGIN:VEVENT
DTSTART;TZID=America/Toronto:20240621T200000
DTEND;TZID=America/Toronto:20240622T010000
DTSTAMP:20260420T163858
CREATED:20240516T185149Z
LAST-MODIFIED:20240516T185149Z
UID:22889-1719000000-1719018000@ville.actonvale.qc.ca
SUMMARY:Célébrons ensemble: la Fête nationale du Québec 2024
DESCRIPTION:
URL:https://ville.actonvale.qc.ca/evenement/celebrons-ensemble-la-fete-nationale-du-quebec-2024/
LOCATION:Parc Donald-Martin
CATEGORIES:Activités culturelles,Activités familiales,Loisirs,Principaux événements,Spectacles
ATTACH;FMTTYPE=image/jpeg:https://ville.actonvale.qc.ca/wp-content/uploads/2024/05/celebrons_ensemble_st-jean-scaled.jpg
END:VEVENT
BEGIN:VEVENT
DTSTART;TZID=America/Toronto:20240324T100000
DTEND;TZID=America/Toronto:20240324T104500
DTSTAMP:20260420T163858
CREATED:20240123T204232Z
LAST-MODIFIED:20240123T204319Z
UID:22362-1711274400-1711277100@ville.actonvale.qc.ca
SUMMARY:Spectacle de Pâques: La ferme de Fernand
DESCRIPTION:Il se passe de drôle de choses à la ferme de Fernand : ses poules pondent des œufs de toutes les couleurs\, son lapin s’est égaré\, etc. Fernand est magiquement dépassé par la situation. On espère qu’il retrouvera sa bête à grandes oreilles pour enfin présenter aux visiteurs « Les mythes et réalités du lapin »\, un amusant jeu questionnaire qu’il a lui-même inventé pour vous!\n\nPrésenté par Les animations de Stéphane Vigeant\n\nPour les enfants de 5 ans et +\nGratuit! Places limitées. Inscription obligatoire: 450-546-2703 poste 252 ou biblio@ville.actonvale.qc.ca
URL:https://ville.actonvale.qc.ca/evenement/spectacle-de-paques-la-ferme-de-fernand/
LOCATION:Bibliothèque municipale d’Acton Vale\, 1093\, rue St-André\, Acton Vale\, J0H 1A0
CATEGORIES:Activités familiales,Bibliothèque,Spectacles
ATTACH;FMTTYPE=image/png:https://ville.actonvale.qc.ca/wp-content/uploads/2024/01/Affiche-Ferme-de-Fernand.png
END:VEVENT
BEGIN:VEVENT
DTSTART;TZID=America/Toronto:20231229T180000
DTEND;TZID=America/Toronto:20231229T210000
DTSTAMP:20260420T163858
CREATED:20231120T220940Z
LAST-MODIFIED:20231120T220940Z
UID:22087-1703872800-1703883600@ville.actonvale.qc.ca
SUMMARY:Célébrons ensemble\, 2023
DESCRIPTION:
URL:https://ville.actonvale.qc.ca/evenement/celebrons-ensemble-2023-5/
LOCATION:Parc Roger-LaBrèque
CATEGORIES:Activités culturelles,Activités familiales,Principaux événements,Spectacles
ATTACH;FMTTYPE=image/jpeg:https://ville.actonvale.qc.ca/wp-content/uploads/2022/11/celebrons-ensemble-Noel-spectacle-musique-scaled.jpg
END:VEVENT
BEGIN:VEVENT
DTSTART;TZID=America/Toronto:20231222T180000
DTEND;TZID=America/Toronto:20231222T210000
DTSTAMP:20260420T163858
CREATED:20231120T220405Z
LAST-MODIFIED:20231120T220405Z
UID:22085-1703268000-1703278800@ville.actonvale.qc.ca
SUMMARY:Célébrons ensemble\, 2023
DESCRIPTION:
URL:https://ville.actonvale.qc.ca/evenement/celebrons-ensemble-2023-4/
LOCATION:Parc Roger-LaBrèque
CATEGORIES:Activités culturelles,Activités familiales,Principaux événements,Spectacles
ATTACH;FMTTYPE=image/jpeg:https://ville.actonvale.qc.ca/wp-content/uploads/2022/11/celebrons-ensemble-Noel-spectacle-musique-scaled.jpg
END:VEVENT
BEGIN:VEVENT
DTSTART;TZID=America/Toronto:20231215T180000
DTEND;TZID=America/Toronto:20231215T210000
DTSTAMP:20260420T163858
CREATED:20231120T220254Z
LAST-MODIFIED:20231120T220254Z
UID:22083-1702663200-1702674000@ville.actonvale.qc.ca
SUMMARY:Célébrons ensemble\, 2023
DESCRIPTION:
URL:https://ville.actonvale.qc.ca/evenement/celebrons-ensemble-2023-3/
LOCATION:Parc Roger-LaBrèque
CATEGORIES:Activités culturelles,Activités familiales,Principaux événements,Spectacles
ATTACH;FMTTYPE=image/jpeg:https://ville.actonvale.qc.ca/wp-content/uploads/2022/11/celebrons-ensemble-Noel-spectacle-musique-scaled.jpg
END:VEVENT
BEGIN:VEVENT
DTSTART;TZID=America/Toronto:20231210T100000
DTEND;TZID=America/Toronto:20231210T110000
DTSTAMP:20260420T163858
CREATED:20231006T215137Z
LAST-MODIFIED:20231006T215137Z
UID:21895-1702202400-1702206000@ville.actonvale.qc.ca
SUMMARY:La fée des étoiles a perdu le Nord
DESCRIPTION:Par La Caravane Enchantée.\nPendant la nuit\, Stella\, la fée des étoiles\, accroche avec sa baguette l’étoile du nord qui tombe quelque part sur terre. Complètement\nperdue et déboussolée\, elle ne retrouve plus son chemin vers le Pôle Nord. Les enfants ainsi que les personnages colorés qu’elle rencontrera tout au long de sa quête la guideront dans d’étranges sentiers de la forêt où elle affrontera ses peurs.\nVenez découvrir avec elle où se cache l’étoile du Nord.\nPour les 3 à 9 ans et famille\nGratuit! Inscription obligatoire au 450-546-2703\, poste 252\nou par courriel au:\nbiblio@ville.actonvale.qc.ca
URL:https://ville.actonvale.qc.ca/evenement/la-fee-des-etoiles-a-perdu-le-nord/
LOCATION:Bibliothèque municipale d’Acton Vale\, 1093\, rue St-André\, Acton Vale\, J0H 1A0
CATEGORIES:Activités culturelles,Activités familiales,Bibliothèque,Loisirs,Spectacles
ATTACH;FMTTYPE=image/jpeg:https://ville.actonvale.qc.ca/wp-content/uploads/2023/10/banniere.jpg
END:VEVENT
BEGIN:VEVENT
DTSTART;TZID=America/Toronto:20231208T190000
DTEND;TZID=America/Toronto:20231208T200000
DTSTAMP:20260420T163858
CREATED:20231120T220044Z
LAST-MODIFIED:20231120T220044Z
UID:22081-1702062000-1702065600@ville.actonvale.qc.ca
SUMMARY:Célébrons ensemble\, 2023
DESCRIPTION:
URL:https://ville.actonvale.qc.ca/evenement/celebrons-ensemble-2023-2/
LOCATION:Parc Roger-LaBrèque
CATEGORIES:Activités culturelles,Activités familiales,Principaux événements,Spectacles
ATTACH;FMTTYPE=image/jpeg:https://ville.actonvale.qc.ca/wp-content/uploads/2022/11/celebrons-ensemble-Noel-spectacle-musique-scaled.jpg
END:VEVENT
BEGIN:VEVENT
DTSTART;TZID=America/Toronto:20231201T180000
DTEND;TZID=America/Toronto:20231201T210000
DTSTAMP:20260420T163858
CREATED:20231120T215927Z
LAST-MODIFIED:20231120T215927Z
UID:22079-1701453600-1701464400@ville.actonvale.qc.ca
SUMMARY:Célébrons ensemble\, 2023
DESCRIPTION:
URL:https://ville.actonvale.qc.ca/evenement/celebrons-ensemble-2023/
LOCATION:Parc Roger-LaBrèque
CATEGORIES:Activités culturelles,Activités familiales,Principaux événements,Spectacles
ATTACH;FMTTYPE=image/jpeg:https://ville.actonvale.qc.ca/wp-content/uploads/2022/11/celebrons-ensemble-Noel-spectacle-musique-scaled.jpg
END:VEVENT
BEGIN:VEVENT
DTSTART;VALUE=DATE:20230817
DTEND;VALUE=DATE:20230820
DTSTAMP:20260420T163858
CREATED:20230706T203406Z
LAST-MODIFIED:20230706T203525Z
UID:21604-1692230400-1692489599@ville.actonvale.qc.ca
SUMMARY:Le Show de la Rentrée 2023
DESCRIPTION:
URL:https://ville.actonvale.qc.ca/evenement/le-show-de-la-rentree-2023/
CATEGORIES:Activités culturelles,Activités familiales,Loisirs,Principaux événements,Spectacles
ATTACH;FMTTYPE=image/jpeg:https://ville.actonvale.qc.ca/wp-content/uploads/2023/07/Show-rentree.jpg
END:VEVENT
END:VCALENDAR